BEGIN:VCALENDAR
VERSION:2.0
PRODID:-//Raices Festival - ECPv6.15.13.1//NONSGML v1.0//EN
CALSCALE:GREGORIAN
METHOD:PUBLISH
X-ORIGINAL-URL:https://raicesfestival.in
X-WR-CALDESC:Events for Raices Festival
REFRESH-INTERVAL;VALUE=DURATION:PT1H
X-Robots-Tag:noindex
X-PUBLISHED-TTL:PT1H
BEGIN:VTIMEZONE
TZID:America/Indiana/Indianapolis
BEGIN:DAYLIGHT
TZOFFSETFROM:-0500
TZOFFSETTO:-0400
TZNAME:EDT
DTSTART:20240310T070000
END:DAYLIGHT
BEGIN:STANDARD
TZOFFSETFROM:-0400
TZOFFSETTO:-0500
TZNAME:EST
DTSTART:20241103T060000
END:STANDARD
BEGIN:DAYLIGHT
TZOFFSETFROM:-0500
TZOFFSETTO:-0400
TZNAME:EDT
DTSTART:20250309T070000
END:DAYLIGHT
BEGIN:STANDARD
TZOFFSETFROM:-0400
TZOFFSETTO:-0500
TZNAME:EST
DTSTART:20251102T060000
END:STANDARD
BEGIN:DAYLIGHT
TZOFFSETFROM:-0500
TZOFFSETTO:-0400
TZNAME:EDT
DTSTART:20260308T070000
END:DAYLIGHT
BEGIN:STANDARD
TZOFFSETFROM:-0400
TZOFFSETTO:-0500
TZNAME:EST
DTSTART:20261101T060000
END:STANDARD
END:VTIMEZONE
BEGIN:VTIMEZONE
TZID:UTC
BEGIN:STANDARD
TZOFFSETFROM:+0000
TZOFFSETTO:+0000
TZNAME:UTC
DTSTART:20240101T000000
END:STANDARD
END:VTIMEZONE
BEGIN:VEVENT
DTSTART;TZID=America/Indiana/Indianapolis:20250913T213000
DTEND;TZID=America/Indiana/Indianapolis:20250913T223000
DTSTAMP:20260416T002246
CREATED:20250804T062807Z
LAST-MODIFIED:20250817T010738Z
UID:22568-1757799000-1757802600@raicesfestival.in
SUMMARY:Grupo Kash
DESCRIPTION:Led by Nicaraguan-born musician Noel Jarquín\, Grupo Kash brings the power and passion of regional Mexican music to every stage they hit. Based in Cincinnati\, Ohio\, Noel has been immersed in music for over 12 years and has led the Grupo Kash project for the past four. Deeply inspired by Mexican music\, he’s built a band of four talented and dedicated musicians\, each bringing their own spark to the group’s bold\, high-energy sound. \nWith accordion\, bajo quinto\, bass\, and drums\, Grupo Kash delivers explosive performances of corridos bélicos and alterados\, igniting crowds with their fierce stage presence and authentic style. Over the years\, Noel has had the honor of sharing the stage with some of the biggest names in regional Mexican music\, performing across the U.S. in states like California and Nevada\, including Las Vegas. \nBeyond the music\, Grupo Kash is on a mission to inspire the next generation of artists. They believe in hard work\, perseverance\, and staying true to your passion no matter what others say. For them\, this isn’t just about performing—it’s about opening doors\, breaking barriers\, and showing up with everything they’ve got\, every single time. \nListen to their music: \nGoogle music: \nGrupo Kash Music \nhttps://music.youtube.com/channel/UCc7ar8d2eJuJunTR7rFtl\nTikTok: https://www.tiktok.com/@grupokash\nFacebook: https://www.facebook.com/PuntoGenio
URL:https://raicesfestival.in/event/grupo-kash-2/
LOCATION:Farmers Bank Stage\, 260 E Washington St\,\, Frankfort\, IN\, 46041\, United States
CATEGORIES:Farmers Bank Stage,Music
ATTACH;FMTTYPE=image/png:https://raicesfestival.in/wp-content/uploads/2025/07/KASH-PROMO-PIC.png
END:VEVENT
BEGIN:VEVENT
DTSTART;TZID=America/Indiana/Indianapolis:20250913T204500
DTEND;TZID=America/Indiana/Indianapolis:20250913T214500
DTSTAMP:20260416T002246
CREATED:20250703T104714Z
LAST-MODIFIED:20250809T015737Z
UID:22596-1757796300-1757799900@raicesfestival.in
SUMMARY:Los Landa's
DESCRIPTION:Dueto Los Landa is a musical duo originally from the town of Coacoatzintla\, Veracruz\, Mexico\, whose journey in music began at a very young age. Raised with a deep love for music\, they have been part of several musical groups over the years\, including Profecía 7 and Trío JVM\, and have also dedicated over 24 years of service singing at their church\, St. Mary’s. \nNow based in Frankfort\, Indiana\, Los Landa bring a rich and heartfelt musical experience to every performance\, interpreting a variety of genres such as banda\, grupero\, norteño\, and more. Their passion for music is matched only by their gratitude toward the community that has embraced them. \nThey express with joy and pride that participating in this beautiful event is a way to give back a little of all that the vibrant Hispanic community of Frankfort has given them over the years.
URL:https://raicesfestival.in/event/los-landas/
LOCATION:Alebrije Stage\, 260 E Washington St\, Frankfort\, 46041\, United States
CATEGORIES:Alebrije Stage,Music
ATTACH;FMTTYPE=image/png:https://raicesfestival.in/wp-content/uploads/2025/07/Los-Landa-16x9-1.png
END:VEVENT
BEGIN:VEVENT
DTSTART;TZID=America/Indiana/Indianapolis:20250913T200000
DTEND;TZID=America/Indiana/Indianapolis:20250913T210000
DTSTAMP:20260416T002246
CREATED:20250804T052909Z
LAST-MODIFIED:20250807T062555Z
UID:22565-1757793600-1757797200@raicesfestival.in
SUMMARY:Paisanos Sin Fronteras
DESCRIPTION:Grupo Paisanos Sin Frontera is a four-member band originally from Nicaragua\, driven by a deep passion for music and a strong desire to grow and connect through their art. The group officially began on September 22\, 2024\, and has since been winning hearts everywhere they perform. Specializing in norteño music\, their repertoire includes corridos\, cumbias\, zapateados\, and romantic ballads. They adapt their show depending on the type of event\, always bringing energy\, variety\, and a genuine connection with the audience. Thanks to their dedication and talent\, they’ve made a lasting impression at every venue leaving doors open and gaining new friendships along the way. For the members of Paisanos Sin Frontera\, music is more than entertainment; it’s a passion\, a way to grow\, and a joy they approach with enthusiasm and heart every single day.
URL:https://raicesfestival.in/event/paisanos-sin-fronteras/
LOCATION:Farmers Bank Stage\, 260 E Washington St\,\, Frankfort\, IN\, 46041\, United States
CATEGORIES:Farmers Bank Stage,Music
ATTACH;FMTTYPE=image/png:https://raicesfestival.in/wp-content/uploads/2025/07/Paisanos.png
END:VEVENT
BEGIN:VEVENT
DTSTART;TZID=America/Indiana/Indianapolis:20250913T190000
DTEND;TZID=America/Indiana/Indianapolis:20250913T213000
DTSTAMP:20260416T002246
CREATED:20250730T060635Z
LAST-MODIFIED:20250809T011643Z
UID:22668-1757790000-1757799000@raicesfestival.in
SUMMARY:DJ Xtasis
DESCRIPTION:Originally from Xalapa\, Veracruz\, Mexico\, DJ Xtasis began his career in the 1990s and has since become a staple at Latin events\, carnivals\, and local festivals. Known for his versatility\, he embraces all musical genres to bring rhythm\, energy\, and fun to diverse audiences. \nRenowned as one of the best live-mixing DJs in the area\, DJ Xtasis takes every set to the next level with his skill behind the decks. What truly sets him apart is his use of music videos—while he’s mixing live\, the crowd can watch the official video clips of each song on a large screen\, creating an immersive and high-energy audio-visual experience that keeps the party alive.
URL:https://raicesfestival.in/event/dj-xtasis/
LOCATION:Farmers Bank Stage\, 260 E Washington St\,\, Frankfort\, IN\, 46041\, United States
CATEGORIES:Farmers Bank Stage,Music
ATTACH;FMTTYPE=image/png:https://raicesfestival.in/wp-content/uploads/2025/08/XTASIS-LOGO-2.png
END:VEVENT
BEGIN:VEVENT
DTSTART;TZID=UTC:20250913T190000
DTEND;TZID=UTC:20250913T200000
DTSTAMP:20260416T002246
CREATED:20250716T082439Z
LAST-MODIFIED:20250812T232111Z
UID:22574-1757790000-1757793600@raicesfestival.in
SUMMARY:Mosaicos
DESCRIPTION:Ballet Folklórico Mosaicos is a nonprofit dance group established in 2014 in Indianapolis\, Indiana\, with the mission of promoting\, preserving\, and sharing the rich cultural heritage of Mexico through traditional folkloric dance. Since its founding\, the group has worked tirelessly to offer the local community an authentic glimpse into the customs and traditions that make up Mexico’s diverse folklore. \nMosaicos provides an inclusive and welcoming space for people of all ages\, backgrounds\, and genders to learn and participate in one of the most vibrant expressions of Mexican culture. In addition to performing at local events and festivals\, the group hosts classes and workshops that invite the community to engage directly with folkloric dance. \nThe name “Mosaicos” (Mosaics) reflects the idea that Mexico’s regional dances and traditions\, much like the pieces of a mosaic\, are diverse and distinct\, yet come together to form a colorful\, unified cultural portrait. Each dance performed tells a unique story\, celebrating everything from regional festivals to ancestral traditions that define Mexican identity. \nOver the years\, Ballet Folklórico Mosaicos has extended its reach beyond Indianapolis\, participating in regional festivals and community events\, and collaborating with other organizations to strengthen the presence of Mexican culture in the United States. Their ongoing commitment to cultural education gives young people the chance to connect with their heritage and take pride in their roots. \nMore than just a dance group\, Ballet Folklórico Mosaicos is a space for cultural exchange\, learning\, and a vibrant celebration of Mexican identity at the heart of Indianapolis. \nFollow Ballet Folklórico Mosaicos:\nFacebook: https://www.facebook.com/balletmosaicos
URL:https://raicesfestival.in/event/mosaicos/
LOCATION:Farmers Bank Stage\, 260 E Washington St\,\, Frankfort\, IN\, 46041\, United States
CATEGORIES:Farmers Bank Stage,Music
ATTACH;FMTTYPE=image/png:https://raicesfestival.in/wp-content/uploads/2025/07/Mosaicos-foto-y-logo.png
END:VEVENT
BEGIN:VEVENT
DTSTART;TZID=America/Indiana/Indianapolis:20250913T180000
DTEND;TZID=America/Indiana/Indianapolis:20250913T190000
DTSTAMP:20260416T002246
CREATED:20250804T052819Z
LAST-MODIFIED:20250816T224449Z
UID:22572-1757786400-1757790000@raicesfestival.in
SUMMARY:Mariachi Sol De America
DESCRIPTION:Mariachi Sol de América\, based in Indianapolis\, was formed on December 12\, 2023\, with a heartfelt mission: to bring the beauty and richness of Mexican culture to every home and every place where their community invites them. \nThe group is made up of six talented musicians—three from Mexico and three from Nicaragua\, a country that holds deep admiration for Mexican traditions. Together\, they create a powerful blend of passion\, respect\, and musical talent that celebrates the spirit of mariachi. \nTheir repertoire includes classics from iconic ranchero artists\, along with cumbias\, zapateados\, and other lively styles that invite audiences to sing\, dance\, and feel connected to their roots. Through their music\, Mariachi Sol de América seeks to keep alive the cultural heritage passed down by their ancestors and share it with future generations. \nThis event is sponsored by Los Compadres Mexican Restaurant
URL:https://raicesfestival.in/event/mariachi-sol-de-america/
LOCATION:Farmers Bank Stage\, 260 E Washington St\,\, Frankfort\, IN\, 46041\, United States
CATEGORIES:Farmers Bank Stage,Music
ATTACH;FMTTYPE=image/png:https://raicesfestival.in/wp-content/uploads/2025/07/Mariachi-Sol-De-America-foto-y-logo.png
END:VEVENT
END:VCALENDAR